BEGIN:VCALENDAR
VERSION:2.0
X-WR-TIMEZONE:Europe/Paris
PRODID:-//Audencia//NONSGML v1.0//EN
CALSCALE:GREGORIAN
BEGIN:VEVENT
SUMMARY:Networking in Toronto, Canada with AAGEF
DTSTART:20230125T180000
DTEND:20230125T203000
UID:1474
DTSTAMP:20260425T210431
LOCATION:Bumpkins Restaurant 21 Gloucester St Toronto ON M4Y 1L8
DESCRIPTION:Join us at the AAGEF (Association des Amis des Grandes Ecoles Françaises) event\n\nDate: Wednesday 25 January 2023\nTime: from 6pm\nVenue: Bumpkins Restaurant, 21 Gloucester St, Toronto, ON M4Y 1L8, Canada\n\nSodexo zero carbon footprint\n\nFounded in Marseille in 1966 by Pierre Bellon, Sodexo is the global leader in services that improve Quality of Life, an essential factor in individual and organizational performance. Operating in 56 countries, Sodexo serves 100 million consumers each day through its unique combination of On-site Food and Facilities Management Services, Benefits & Rewards Services and Personal & Home Services.\n\nHugo Koenig (Kedge Business School) is Business Development Director for Canada. Hugo will tell us more about Sodexo, one of the largest employer in Canada and in the world . He  will also focus on an important factor : how Sodexo is now aiming at making food service offers  with a zero carbon footprint ( or as close as possible to zero )\n\nAgenda :\n\n	6:00pm Networking\n	7:00pm Presentation - Q&A\n	7:45pm Networking\n\n \n\nRegister here\n \n\n\n\n \nAAGEF Ontario, with over 2,000 executives, is a networking association of French Elite Graduate Schools alumni, living and working in Ontario. We also welcome Ontario-based alumni of Canadian and global Elite Universities. Follow us on LinkedIn.\n\n\n\n \n\n \n\n 
BEGIN:VALARM
ACTION:DISPLAY
TRIGGER:-PT60M
DESCRIPTION:Networking in Toronto, Canada with AAGEF
END:VALARM
END:VEVENT
END:VCALENDAR