BEGIN:VCALENDAR
VERSION:2.0
X-WR-TIMEZONE:Europe/Paris
PRODID:-//Audencia//NONSGML v1.0//EN
CALSCALE:GREGORIAN
BEGIN:VEVENT
SUMMARY:Annulé - Country Webinar: Come and meet Aude Augias, Project Leader at BCG, Panama
DTSTART:20230322T183000
DTEND:20230322T193000
UID:1471
DTSTAMP:20260425T210005
LOCATION:
DESCRIPTION:As part of the international Career Center Webinars organised for you, meet Aude Augias (GE 11), Project Leader at Boston Consulting Group (BCG), Panama.\n\nAude will tell us about her intercultural experience and how to decode the working culture in Japan, United States and Panama in the consulting sector.\nAude wants to share her experience and career tips with Audencia talent and is delighted to answer to your questions.\n\nJoin us for an interactive session!\n  \nJoin on your computer, mobile app or room device\nClick here to join the meeting\nMeeting ID: 381 267 626 071\nPasscode: xva36v\nLanguage: English
BEGIN:VALARM
ACTION:DISPLAY
TRIGGER:-PT60M
DESCRIPTION:Annulé - Country Webinar: Come and meet Aude Augias, Project Leader at BCG, Panama
END:VALARM
END:VEVENT
END:VCALENDAR