BEGIN:VCALENDAR
VERSION:2.0
X-WR-TIMEZONE:Europe/Paris
PRODID:-//Audencia//NONSGML v1.0//EN
CALSCALE:GREGORIAN
BEGIN:VEVENT
SUMMARY:AFTERWORK : COMMENT FINANCER SA FORMATION PROFESSIONNELLE ?
DTSTART:20171214T183000
DTEND:20171214T200000
UID:147
DTSTAMP:20260425T223844
LOCATION:Audencia, 8 route de la Jonelière, Nantes
DESCRIPTION:Jeudi 14 décembre, de 18h30 à 20h, sur Atlantic campus, l'équipe de l'Executive Education vous donne toutes les solutions qui s'offrent à vous pour financer votre formation professionnelle.\nAnimée par Anne Villate et Gaëlle Duchêne, responsables programmes et expertes en financement, cette conférence s'adresse à tous les salariés, cadres, managers et dirigeants ou experts RH et responsables formation qui souhaitent mieux comprendre et avoir toutes les informations sur l’ensemble des dispositifs de financement. \n\nPour conclure cette présentation, vous pourrez échanger avec l’équipe qui vous apporteront leurs conseils personnalisés. \n\nPour plus d'info, contactez Anne Villate\navillate@audencia.com 
BEGIN:VALARM
ACTION:DISPLAY
TRIGGER:-PT60M
DESCRIPTION:AFTERWORK : COMMENT FINANCER SA FORMATION PROFESSIONNELLE ?
END:VALARM
END:VEVENT
END:VCALENDAR