BEGIN:VCALENDAR
VERSION:2.0
X-WR-TIMEZONE:Europe/Paris
PRODID:-//Audencia//NONSGML v1.0//EN
CALSCALE:GREGORIAN
BEGIN:VEVENT
SUMMARY:Country Webinar: Come and meet Eric Postel, Head of AXA Group Financial Controlling Asia and International Markets
DTSTART:20230208T183000
DTEND:20230208T193000
UID:1469
DTSTAMP:20260425T210145
LOCATION:
DESCRIPTION:As part of our international Career Webinars, join us to meet Eric Postel (GE 09), Head of Group Financial Controlling - Asia and International markets for AXA who is based in Madrid, Spain.\n\nEric has built a solid career in finance having worked for groups such as KPMG, Allianz and now AXA. Hear about his intercultural experience, the working culture in Spain and his role in a French multinational insurance company.\n \nThe HR Talent Acquisition specialist will also join the event to give an account of the internship and job opportunities in AXA Spain!\n \nJoin us for an interactive session!\n \nJoin on your computer, mobile app, or room device\nClick here to join the meeting\nMeeting ID: 392 824 593 988\nPasscode: 4Yf9bU\nLanguage: English
BEGIN:VALARM
ACTION:DISPLAY
TRIGGER:-PT60M
DESCRIPTION:Country Webinar: Come and meet Eric Postel, Head of AXA Group Financial Controlling Asia and International Markets
END:VALARM
END:VEVENT
END:VCALENDAR