BEGIN:VCALENDAR
VERSION:2.0
X-WR-TIMEZONE:Europe/Paris
PRODID:-//Audencia//NONSGML v1.0//EN
CALSCALE:GREGORIAN
BEGIN:VEVENT
SUMMARY:Country Webinar: Fin-Tech Investment Strategies and Careers
DTSTART:20230125T123000
DTEND:20230125T133000
UID:1468
DTSTAMP:20260425T210208
LOCATION:
DESCRIPTION:Join DEGIRO, the European leader in online investing, and the Career Center for a conference on investment strategies.\n\nHear from recognized expert Rayane Amaouche, Business Manager at DEGIRO, as he delves into the financial independence and business models of FinTechs.\n\nDiscover the keys to achieving financial independence, gain insight into the success of FinTechs compared to traditional banks, engage in discussions with industry professionals, and learn about internship and job opportunities.\n\nDon't miss this opportunity to expand your investment knowledge and network with industry leaders.\n\n________________________________________________________________________________\n\nClick here to join the webinar\n\nMeeting ID: 371 552 404 522\nPasscode: jpcCzQ\nLanguage: English
BEGIN:VALARM
ACTION:DISPLAY
TRIGGER:-PT60M
DESCRIPTION:Country Webinar: Fin-Tech Investment Strategies and Careers
END:VALARM
END:VEVENT
END:VCALENDAR