BEGIN:VCALENDAR
VERSION:2.0
X-WR-TIMEZONE:Europe/Paris
PRODID:-//Audencia//NONSGML v1.0//EN
CALSCALE:GREGORIAN
BEGIN:VEVENT
SUMMARY:Afterwork in Seoul, South Korea
DTSTART:20230203T110000
DTEND:20230203T140000
UID:1467
DTSTAMP:20260425T210120
LOCATION:ATON Brewery, 22-76 Itaewon 1(il)-dong, Yongsan-gu, Seoul, South Korea
DESCRIPTION:Dear Audencia Alumni in Seoul, \n\nIt has been a long time since we last got together! At the beginning of 2023, we would like to propose you an afterwork at the ATON Brewery to catch up and (why not?) plan our future events, can't wait to hear all your stories!!! \n\nDate: 3 Feb 2023 (Friday) \nTime: 19h \nVenu: https://naver.me/F8RQnaxB    서울 용산구 장문로 23 몬드리안 서울 이태원   \n1) Resto name: Aton Brewery(아톤 브루어리)      >> In Mondrian Hotel Seoul  \n2) Metro: 녹사평역 3번 출구에서 931m            Noksapyeong station(line no.6)/ exit 3: 931m \n\nPlease don't hesitate to contact me if necessary! Looking forward to meeting you all soon. \n\nAudencia Alumni Ambassador Olivia Jun & Audencia Alumni Team
BEGIN:VALARM
ACTION:DISPLAY
TRIGGER:-PT60M
DESCRIPTION:Afterwork in Seoul, South Korea
END:VALARM
END:VEVENT
END:VCALENDAR