BEGIN:VCALENDAR
VERSION:2.0
X-WR-TIMEZONE:Europe/Paris
PRODID:-//Audencia//NONSGML v1.0//EN
CALSCALE:GREGORIAN
BEGIN:VEVENT
SUMMARY:CCI France Chine New Year Cocktail in Beijing
DTSTART:20230117T113000
DTEND:20230117T140000
UID:1466
DTSTAMP:20260425T211719
LOCATION:CCI FRANCE CHINE Beijing Office, Suites 201-222, 2F, Building 81, No. 4 Gongti North Road, Chaoyang District, Beijing, China
DESCRIPTION:CCI FRANCE CHINE is pleased to invite you to attend \n\nthe New Year Cocktail on Tuesday, 17th of January 2023.\n\nJoin us to celebrate the new year with French and Chinese officials and all the Sino-French business community, in the presence of Mr. Laurent Bili, the French Ambassador to China, our distinguished Board Members and Mrs. Caroline Penard, General Manager of CCI FRANCE CHINE.\nOur partners will prepare a wonderful Buffet with many delicious French specialties.\n                                               \nDate: Tuesday, 17 January 2023\nTime: 18:30 to 21:00\nEvent Format: In person (Only open to invited members)\nVenue: CCI FRANCE CHINE Beijing Office, Suites 201-222, 2F, Building 81, No. 4 Gongti North Road, Chaoyang District, Beijing\n北京市朝阳区工体北路4号院81号楼二层201-222室\n \nRegistration: Scan the QR code below or open the following link: CCI FRANCE CHINE Beijing New Year Cocktail\n \n
BEGIN:VALARM
ACTION:DISPLAY
TRIGGER:-PT60M
DESCRIPTION:CCI France Chine New Year Cocktail in Beijing
END:VALARM
END:VEVENT
END:VCALENDAR