BEGIN:VCALENDAR
VERSION:2.0
X-WR-TIMEZONE:Europe/Paris
PRODID:-//Audencia//NONSGML v1.0//EN
CALSCALE:GREGORIAN
BEGIN:VEVENT
SUMMARY:Club Activités Culturelles : Visite guidée - Le Paris des Huguenots au temps de la reine Margot
DTSTART:20230415T110000
DTEND:20230415T123000
UID:1465
DTSTAMP:20260425T210210
LOCATION:Saint-Germain-des-Prés Paris
DESCRIPTION:\nLe Club Activités Culturelles organise une visite guidée "Le Paris des Huguenots au temps de la reine Margot" le samedi 15 avril à 11h.\n \nCette visite insolite nous mènera dans les rues de paris de Saint Germain- des-Prés à Saint Germain l'Auxerrois au temps des guerres de religion. Le premier baptême réformé, les quartier protestant, le palais de la reine Margot, la saint Berthélémy et le mariage d'Henri IV jusqu'au tocsin de st Germain l'Auxerrois donnant le signal du massacre.\n \n\nPlaces limitées, inscriptions obligatoires !\n\n\n\nQuestions : nushad.merchant@audencia.com\n\n\n\n\n\n\n\n\n\n\n 
BEGIN:VALARM
ACTION:DISPLAY
TRIGGER:-PT60M
DESCRIPTION:Club Activités Culturelles : Visite guidée - Le Paris des Huguenots au temps de la reine Margot
END:VALARM
END:VEVENT
END:VCALENDAR