BEGIN:VCALENDAR
VERSION:2.0
X-WR-TIMEZONE:Europe/Paris
PRODID:-//Audencia//NONSGML v1.0//EN
CALSCALE:GREGORIAN
BEGIN:VEVENT
SUMMARY:Club Culture & Management : Lancement du prix innovation 2023 & rencontre des startups lauréates
DTSTART:20230117T134500
DTEND:20230117T144500
UID:1462
DTSTAMP:20260425T210539
LOCATION:Parc des expositions de la Porte de Versailles Paris
DESCRIPTION:Des lauréats du PICEM - Prix organisé par le Club qui récompense chaque année des startups du secteur culturel - vous attendent au salon Museum Connections le mardi 17 janvier et le jeudi 18 janvier 2023 au stand Culture & Management (K59).\n\nRetrouvez nous au Salon\n\nVenez décrypter les dernières tendances et imaginer les nouvelles expériences de visite avec des professionnels des musées, lieux culturels et touristiques.\n\nSeront présents sur toute la durée du salon et partageront leurs expériences et les opportunités que leur a ouvertes le Prix :\n\n\n	Alexandre Lavallee, Ceo & co-fondateur de Selas AI, \n	Julie Baumard, Fondatrice de Conferentia\n	Maxime Faget, Ceo & co-fondateur de Fairly\n	Athina Gkouma, Propriétaire Auteur de Local Approach\n\n\nUne conférence-interview avec les lauréats aura lieu en présentiel le 17 janvier entre 13h45 et 14h45 dans l'espace Innovation TV.\n\n \n\nRAPPEL : Candidatures à l'édition 2023 du PICEM\n\n\nVous êtes une jeune pousse de l'entrepreneuriat culturel ?\nLes candidatures seront ouvertes à partir du 17 janvier jusqu'à fin avril 2023 pour participer à cette toute nouvelle édition du Prix Innovation C&M, et ainsi promouvoir l’innovation et l’entrepreneuriat dans le secteur culturel.\n\nÀ la clé : un accompagnement par des professionnels expérimentés, une mise en relation avec des professionnels boosters et une couverture médiatique auprès de nos partenaires.\n \n\nAu plaisir de vous retrouver sur ce salon ou en ligne. \n\nL'équipe du Club Culture & Management\n\n \n\n\n \n\n 
BEGIN:VALARM
ACTION:DISPLAY
TRIGGER:-PT60M
DESCRIPTION:Club Culture & Management : Lancement du prix innovation 2023 & rencontre des startups lauréates
END:VALARM
END:VEVENT
END:VCALENDAR