BEGIN:VCALENDAR
VERSION:2.0
X-WR-TIMEZONE:Europe/Paris
PRODID:-//Audencia//NONSGML v1.0//EN
CALSCALE:GREGORIAN
BEGIN:VEVENT
SUMMARY:Afterwork Audencia Alumni - La Roche-sur-Yon
DTSTART:20230131T184500
DTEND:20230131T223000
UID:1460
DTSTAMP:20260425T210407
LOCATION:Monkey Place 117 Bvd Aristide Briand 85000 La Roche-sur-Yon
DESCRIPTION:\n? Chers diplômés d'Audencia, nous vous donnons rendez-vous\n\nle Mardi 31 Janvier 2023\nau Monkey Place à La Roche-sur-Yon\nà partir de 18h45\n\npour partager un moment informel et convivial en cette nouvelle année ! ?\n\n 
BEGIN:VALARM
ACTION:DISPLAY
TRIGGER:-PT60M
DESCRIPTION:Afterwork Audencia Alumni - La Roche-sur-Yon
END:VALARM
END:VEVENT
END:VCALENDAR