BEGIN:VCALENDAR
VERSION:2.0
X-WR-TIMEZONE:Europe/Paris
PRODID:-//Audencia//NONSGML v1.0//EN
CALSCALE:GREGORIAN
BEGIN:VEVENT
SUMMARY:Devenez le manager commercial dont votre entreprise à besoin
DTSTART:20230131T130000
DTEND:20230131T140000
UID:1459
DTSTAMP:20260425T210407
LOCATION:
DESCRIPTION:\nUn manager commercial - une posture au-delà de la technique ?\n\nDepuis quelques années, le manager commercial fait face à ces nouveaux défis : métiers de la vente en tension, mutation écologique, cycles de vie des produits éphémères, CRM et marketing digital, révolution des canaux de distribution...\n\nAudencia vous invite personnellement à participer à son webinar : "Un manager commercial - une posture au-delà de la technique ?"\n\nOlga Kapitskaia, Directrice des Masters internationaux et Professeure en management vous accompagnera dans la réponse à cette question essentielle dans le quotidien des managers commerciaux. \n\nCe qui fait la différence d'un Manager Commercial ? \n\n\n	Sa vision stratégique\n	Son leadership\n	Sa communication\n	Son adaptabilité\n	Son aptitude à la vente\n\n\nRendez-vous le 31 janvier 2023 de 13h à 14h !\n\n \n\nJe m'inscris\n\nInscription gratuite\n\nVotre contact : Solène Perrot\nsperrot@audencia.com\nPortable : 06 31 56 51 43
BEGIN:VALARM
ACTION:DISPLAY
TRIGGER:-PT60M
DESCRIPTION:Devenez le manager commercial dont votre entreprise à besoin
END:VALARM
END:VEVENT
END:VCALENDAR