BEGIN:VCALENDAR
VERSION:2.0
X-WR-TIMEZONE:Europe/Paris
PRODID:-//Audencia//NONSGML v1.0//EN
CALSCALE:GREGORIAN
BEGIN:VEVENT
SUMMARY:CCI France Chine Event: AI is no magic (in Shanghai & via Webinar)
DTSTART:20230111T123000
DTEND:20230111T140000
UID:1457
DTSTAMP:20260425T210448
LOCATION:CCI FRANCE CHINE Shanghai Office, 2/F Mayfair Tower, 83 Fu Min Road, Jing'an District, Shanghai, China
DESCRIPTION:Introduction:\n\nArtificial Intelligence constantly delivers new tools and applications. The ability to generate images from texts will influence the way we see creativity in the future. Mastering and properly using this technology requires a basic understanding of the tool.\n\nSome would like you to believe that AI image generation is very complex. Our speakers think differently. They are dedicated to the education of the technology, to the largest numbers. They have prepared a presentation that will explain clearly, without jargon, how it all works. Through examples and live demonstrations, they will share their deep understanding of the technology.\n\nNo special knowledge is required to attend this presentation. It builds on general knowledge to assemble the key concept of how AI works.\n\nThis presentation also opens a debate on how AI technologies are more than ever available to all.\n\n \n\nKey outlines:\n\n- How is image generation working?\n\n- Pros & cons of the technology.\n\n- How to use image generation in a business context?\n\n- How to integrate other A.I. technology in business applications?\n\n \n\nSpeakers:\n \n\n\n	\n		\n			\n			\n			\n			Stephane MONSALLIER\n			CEO of System in Motion\n\n			 \n\n			Stephane graduated in 1993 in Artificial Intelligence from CentraleSupelec. \n\n			He founded System in Motion in 2004 in Shanghai and has been helping his customers to choose and implement the right technology to tackle the right challenge.\n			\n		\n		\n			\n			 \n\n			\n			\n			Etienne CHARLIER \n			Partner Riverbanks, Founder DIY AI\n\n			 \n\n			Etienne completed his first AI project in 1988. Since 1995, he worked in China in several technology sectors. He is currently driving DIY AI, an initiative to help companies and executives make AI actionable. \n\n			He is also active in deep learning education.\n			\n		\n	\n\n                                            \nDate: Wednesday, 11 January 2023\nTime: 18:30 - 20:00 in China / 12:30 - 14:00 in France\nFormat: In-person + Webinar\nFees: Free for Audencia Alumni & CCI FRANCE CHINE Members Language: English\nVenue: CCI FRANCE CHINE Shanghai Office, 2/F Mayfair Tower, 83 Fu Min Road, Jing'an District, Shanghai, China + Webinar\nRegistration: Scan the QR code below or open the following link: AI is no magic\n\n
BEGIN:VALARM
ACTION:DISPLAY
TRIGGER:-PT60M
DESCRIPTION:CCI France Chine Event: AI is no magic (in Shanghai & via Webinar)
END:VALARM
END:VEVENT
END:VCALENDAR