BEGIN:VCALENDAR
VERSION:2.0
X-WR-TIMEZONE:Europe/Paris
PRODID:-//Audencia//NONSGML v1.0//EN
CALSCALE:GREGORIAN
BEGIN:VEVENT
SUMMARY:CCI France Chine Event: French Job Fair 中国法国工商会法国企业招聘会
DTSTART:20230114T060000
DTEND:20230114T100000
UID:1456
DTSTAMP:20260425T210431
LOCATION:CCI FRANCE CHINE Shanghai Office 2/F Mayfair Tower, 83 Fu Min Road, Jing'an District, Shanghai, China
DESCRIPTION:The French Job Fair that connects talented candidates like YOU with attractive French MNCs and SMEs, based in China.\n\n法国企业招聘会将像您一样的高端人才和极具吸引力的在华法国企业联系在一起。\n \n\nDate: 14 January 2023 / 日期：2023年1月14日\nTime: 1:00 PM  - 5:00 PM / 时间：下午1点 - 下午5点\nFees: Free / 费用：免费\nVenue: CCI FRANCE CHINE SHANGHAI OFFICE, 2/F Mayfair Tower, 83 Fu min Road, Shanghai / 地址：上海市静安区富民路83号，巨富大厦2楼\n \n\nOverview of participating companies / 参会企业概览\n\n\n\n \n\nJob offers / 岗位预告\n \n\n\n\nHow to best prepare for  this job fair? / 如何为这次招聘会做最好的准备？\n\nBefore the Job Fair / 招聘会之前\nUpdate your CV to make your profile stand out / 更新您的简历来突出自己\nResearch the companies attending the fair / 搜寻参加此次招聘会的公司的信息\nPrepare a 30 second to 1-minute self-introduction / 准备一个30秒至1分钟的个人介绍\n\nDuring the Job Fair / 招聘会期间\nDress professionally / 穿着专业\nBe confident in your skills and experience / 对自己的技能和经验自信\nMake connections by collecting business cards and making new LinkedIn contacts / 通过收集名片以及在领英上添加新好友来建立社交联系\n\n \n\nTo register, scan the QR code or click here\n\n\n\n\n 
BEGIN:VALARM
ACTION:DISPLAY
TRIGGER:-PT60M
DESCRIPTION:CCI France Chine Event: French Job Fair 中国法国工商会法国企业招聘会
END:VALARM
END:VEVENT
END:VCALENDAR