BEGIN:VCALENDAR
VERSION:2.0
X-WR-TIMEZONE:Europe/Paris
PRODID:-//Audencia//NONSGML v1.0//EN
CALSCALE:GREGORIAN
BEGIN:VEVENT
SUMMARY:Débrief CES 2023 et décryptage des tendances
DTSTART:20230124T180000
DTEND:20230124T230000
UID:1453
DTSTAMP:20260425T210123
LOCATION:Audencia Atlantic Campus 8 route de la Jonelière - Nantes
DESCRIPTION:\n	\n		\n			\n			\n				\n					\n						\n						\n						\n						? À noter dans vos agendas  !\n					\n				\n			\n			\n		\n	\n\n \n\n\n	\n		\n			\n			\n				\n					\n						Comme tous les ans, Las Vegas accueille tout ce qui se fait de mieux en termes d’innovation électronique et numérique lors du grand salon CES, rendez-vous annuel incontournable pour comprendre, imaginer, s’inspirer, challenger voire dénoncer les usages et technologies de demain.\n						\n						Depuis près de 10 ans, une équipe Niji pluridisciplinaire prend part à cette expérience unique, à la rencontre des start-ups et autres leaders mondiaux du secteur. De retour en France, les envoyés spéciaux Niji vous proposent un décryptage exclusif alliant analyses pragmatiques et mises en perspectives des dernières annonces du CES.\n						\n						Cette année, nous parlerons santé numérique, intelligence artificielle, foodtech, mobilité, durabilité, life style ou bien encore maison intelligente !\n						\n						 \n						Rendez-vous le mardi 24 janvier à 18h00 pour une synthèse complète \n						à Audencia Atlantic Campus.\n						\n						Cette présentation sera suivie d’un cocktail apéritif.\n						 \n						Etudiant(e)s, collaborateurs et partenaires d'Audencia,\n						vous êtes invités à participer à cet évènement !\n						Vous pouvez dès à présent vous inscrire via le bouton ci-dessous.\n					\n				\n			\n			\n		\n	\n\n \n\n\n	\n		\n			\n			\n				\n					\n						\n						\n							\n								\n									\n									\n										\n											\n												\n												INSCRIPTION\n												\n											\n										\n									\n									\n								\n							\n						\n						\n					\n				\n			\n			\n		\n	\n\n \n\n\n	\n		\n			\n			\n				\n					\n						Si vous avez des questions, nous vous invitons à nous contacter via l'email suivant : events@audencia.com. \n						\n						\n						Le Pôle Events Audencia\n					\n				\n			\n			\n		\n	\n
BEGIN:VALARM
ACTION:DISPLAY
TRIGGER:-PT60M
DESCRIPTION:Débrief CES 2023 et décryptage des tendances
END:VALARM
END:VEVENT
END:VCALENDAR