BEGIN:VCALENDAR
VERSION:2.0
X-WR-TIMEZONE:Europe/Paris
PRODID:-//Audencia//NONSGML v1.0//EN
CALSCALE:GREGORIAN
BEGIN:VEVENT
SUMMARY:Club Culture & Management : Education artistique et culturelle : comment créer de nouveaux ponts entre les arts et les scolaires ?
DTSTART:20230125T190000
DTEND:20230125T210000
UID:1452
DTSTAMP:20260425T210142
LOCATION:Beaux Arts & Cie 9 Bd de la Madeleine 75001 Paris
DESCRIPTION: \n\nLe 25 janvier s'ouvrira le cycle "Les collectifs", avec un 1er volet sur l'éducation artistique et culturelle des scolaires.\n\nPour cette première conférence consacrée aux enjeux et ponts entre institutions et écoles, nous aurons le plaisir d'accueillir :\n\n\n	\n	Matthieu Decreane, Sous-directeur du développement des publics et de l'éducation artistique et culturelle au Musée du Louvre\n	\n\n\n\n	\n	Olivia Deroint, Déléguée académique et conseillère du Recteur de l'académie de Paris, DAAC (Délégation académique aux arts et à la culture)\n	\n\n\nEn amont de ce débat, n'hésitez pas à consulter cette série de podcasts réalisés par France Culture sur l’éducation artistique et culturelle.\n \n\nInformations et réservation\n\n \n\nModalités d'accueil en présentiel :\n\n- Le débat aura lieu au siège de Beaux Arts & Cie.\n\n- Il commencera à 19h, l'accueil se faisant à partir de 18h30.\n\n- Si vous bénéficiez d'un tarif spécial (tarif chômeur ou tarif étudiant à 15€), vous devrez nous présenter un justificatif de moins de 3 mois.\n \n\nAu plaisir de vous retrouver,\nL'équipe du Club Culture & Management\n\n \n\n\n\n 
BEGIN:VALARM
ACTION:DISPLAY
TRIGGER:-PT60M
DESCRIPTION:Club Culture & Management : Education artistique et culturelle : comment créer de nouveaux ponts entre les arts et les scolaires ?
END:VALARM
END:VEVENT
END:VCALENDAR