BEGIN:VCALENDAR
VERSION:2.0
X-WR-TIMEZONE:Europe/Paris
PRODID:-//Audencia//NONSGML v1.0//EN
CALSCALE:GREGORIAN
BEGIN:VEVENT
SUMMARY:Déjeuner SciencesCom
DTSTART:20230206T120000
DTEND:20230206T140000
UID:1451
DTSTAMP:20260425T211128
LOCATION:Les Funambules, 83 bd de la Prairie au Duc, 44200 Nantes
DESCRIPTION:? A la suite de la remise de diplômes de la promotion 2022, Audencia Alumni et Audencia SciencesCom seront heureux de partager un moment convivial de rencontres et retrouvailles en ce 6 février 2023 avec les diplômés SciencesCom. ?\n \n\nNous vous proposons une pause déjeuner aux Funambules sur l'Ile de Nantes, de 12h à 14h.\n❗ Inscription obligatoire\n\n \n\nHâte de vous y retrouver !*\n\n\nSixtine Pontroué\nspontroue@audencia.com\n\n*Evénement réservé aux diplômés SciencesCom uniquement accessible sur inscription et dans la limite des places disponibles
BEGIN:VALARM
ACTION:DISPLAY
TRIGGER:-PT60M
DESCRIPTION:Déjeuner SciencesCom
END:VALARM
END:VEVENT
END:VCALENDAR