BEGIN:VCALENDAR
VERSION:2.0
X-WR-TIMEZONE:Europe/Paris
PRODID:-//Audencia//NONSGML v1.0//EN
CALSCALE:GREGORIAN
BEGIN:VEVENT
SUMMARY:Dîner de fin d'année à Casablanca
DTSTART:20221222T200000
DTEND:20221222T220000
UID:1450
DTSTAMP:20260425T210115
LOCATION:Lieu à confirmer Casablanca, Maroc
DESCRIPTION:Chères audenciennes, chers audenciens,\n\nNous avons le plaisir de vous inviter au dîner de fin d’année d’Audencia Alumni Maroc. Celui-ci aura lieu le jeudi 22 décembre à Casablanca à partir de 20h. Nous choisirons un restaurant en fonction du nombre d’inscrits.\n\nMerci de m’envoyer vos confirmations par message sur notre groupe Facebook. \n\nYassine\n
BEGIN:VALARM
ACTION:DISPLAY
TRIGGER:-PT60M
DESCRIPTION:Dîner de fin d'année à Casablanca
END:VALARM
END:VEVENT
END:VCALENDAR