BEGIN:VCALENDAR
VERSION:2.0
X-WR-TIMEZONE:Europe/Paris
PRODID:-//Audencia//NONSGML v1.0//EN
CALSCALE:GREGORIAN
BEGIN:VEVENT
SUMMARY:[Annulé] Entrepreneurs - conf. INSPIRE - Laure Bouguen (GE 15), fondatrice de Ho Karan, produits naturels à base de CBD
DTSTART:20230405T183000
DTEND:20230405T193000
UID:1449
DTSTAMP:20260425T210406
LOCATION:
DESCRIPTION:\n?  Cycle de rencontres avec des entrepreneurs  ?\n\n[en distanciel]\n \n\nInspire #5\n\nLaure Bouguen (GE 15), Fondatrice de Ho Karan\n\nInscription (à partir du 8 mars) : https://airtable.com/shrf161hEawcmmupR\n\n \n\nDepuis sa création en 2015, Ho Karan (“Je vous aime” en breton) s’impose comme une marque incontournable des soins naturels à base de chanvre cultivé en Bretagne. Une marque qui destresse la peau et l’esprit avec des produits naturels à base de CBD.\n\nEn septembre 2022, Laure a ouvert à Paris dans le Marais son 1er centre de soin avec plusieurs activités (un espace massage et spa, un café, un espace créateur et boutique) pour valoriser le CBD et ses nombreux bienfaits sur la santé notamment la réduction du stress.\n\nLaure a commencé son aventure entrepreneuriale pendant ses études à Audencia et a été accompagnée par l’Incubateur Centrale-Audencia-Ensa pour son lancement.\nA l'occasion d'INSPIRE #5, elle reviendra sur son parcours, l’origine du projet, ses difficultés auprès des banques, ses échecs, ses réussites et vous partagera sans filtre ses précieux conseils pour entreprendre quand on est étudiant. \n\n? Vous pourrez aussi lui poser toutes vos questions !\n\nAlors, vous souhaitez rencontrer Laure et vous inspirer de son parcours ?\nRendez-vous le 5 avril à 18h30.\n\n \n\n\nInspire, le rendez-vous des étudiants et des diplômés qui aspirent à l'entrepreneuriat, revient cette année !\nPropulsé par l’Incubateur Centrale-Audencia-Ensa, structure d'accompagnement unique grâce à l’hybridation de trois écoles, le Programme Inspire est un cycle de rencontres avec des entrepreneurs qui partagent leurs expériences sans langue de bois.\n\n\n\n\n 
BEGIN:VALARM
ACTION:DISPLAY
TRIGGER:-PT60M
DESCRIPTION:[Annulé] Entrepreneurs - conf. INSPIRE - Laure Bouguen (GE 15), fondatrice de Ho Karan, produits naturels à base de CBD
END:VALARM
END:VEVENT
END:VCALENDAR