BEGIN:VCALENDAR
VERSION:2.0
X-WR-TIMEZONE:Europe/Paris
PRODID:-//Audencia//NONSGML v1.0//EN
CALSCALE:GREGORIAN
BEGIN:VEVENT
SUMMARY:Entrepreneurs - conf. INSPIRE - Vincent Roux (GE 04), entrepreneur récidiviste !
DTSTART:20230208T183000
DTEND:20230208T193000
UID:1448
DTSTAMP:20260425T210117
LOCATION:
DESCRIPTION:\n?  Cycle de rencontres avec des entrepreneurs  ?\n\n[en distanciel]\n \n\nInspire #3\n\nVincent Roux (GE 04), entrepreneur récidiviste\n\nInscription : https://airtable.com/shrhtZbjdZHifPjPJ\n\n\nVincent Roux (GE 04), entrepreneur en série vous présentera son parcours et vous partagera sans filtre ses expériences en entrepreneuriat.\n\nVincent est le fondateur de O’Code, entreprise qu’il a créée en 2016 dont la mission est de protéger les objets et les personnes face à la perte, aux abus et au vol via un système innovant de codes à scanner utilisant la technologie blockchain.\n\nAuparavant, il a créé d'autres entreprises, notamment Intuiti pour ne citer qu’elle, agence de marketing digital présente à Nantes, Paris et Lyon (rien que ça) !\n? Petite anecdote : Intuiti fut l’une des premières entreprises à être accueillie à l’Incubateur, en 2003.\n\nAutant vous dire, qu'il a des choses à vous partager en matière d’entrepreneuriat !\n\n\n	Pourquoi a-t-il décidé d’entreprendre ?\n	Quel a été son cheminement pour enfin se lancer ?\n	Comment s’est-il entouré pour avancer dans ses projets ?\n	Quelles étaient ses craintes ? A-t-il connu des échecs ?\n	Que recommencerait-il s’il pouvait revenir en arrière ?\n\nAutant d’interrogations soulevées auxquelles Vincent pourra apporter des réponses… et surtout des précieux conseils. ? Vous pourrez aussi lui poser toutes vos questions !\n\nAlors, vous souhaitez rencontrer Vincent et découvrir ses secrets pour entreprendre ?\nRendez-vous le 8 février à 18h30.\n\n\n \n\n\n\nInspire, le rendez-vous des étudiants et des diplômés qui aspirent à l'entrepreneuriat, revient cette année !\nPropulsé par l’Incubateur Centrale-Audencia-Ensa, structure d'accompagnement unique grâce à l’hybridation de trois écoles, le Programme Inspire est un cycle de rencontres avec des entrepreneurs qui partagent leurs expériences sans langue de bois.\n\n\n\n\n 
BEGIN:VALARM
ACTION:DISPLAY
TRIGGER:-PT60M
DESCRIPTION:Entrepreneurs - conf. INSPIRE - Vincent Roux (GE 04), entrepreneur récidiviste !
END:VALARM
END:VEVENT
END:VCALENDAR