BEGIN:VCALENDAR
VERSION:2.0
X-WR-TIMEZONE:Europe/Paris
PRODID:-//Audencia//NONSGML v1.0//EN
CALSCALE:GREGORIAN
BEGIN:VEVENT
SUMMARY:Entrepreneurs - conf. INSPIRE - Emmanuel Watrinet (Centralien), co-Fondateur de Carbo
DTSTART:20230308T183000
DTEND:20230308T193000
UID:1447
DTSTAMP:20260425T210119
LOCATION:
DESCRIPTION:\n?  Cycle de rencontres avec des entrepreneurs  ?\n\n[en distanciel]\n \n\nInspire #4\n\nEmmanuel Watrinet (Centralien), co-Fondateur de Carbo\n\nInscription : https://airtable.com/shryarHZFV8x0YRLd\n\n \n\nCarbo est une entreprise innovante et engagée qui propose aux particuliers et aux entreprises des outils ludiques pour comprendre et réduire leur empreinte carbone. ?\n\nDerrière ce projet engagé : 3 centraliens nantais qui se sont rencontrés pendant leurs études à Centrale Nantes. C’est en 2018 qu’ils décident de lancer Carbo… Et, aujourd’hui ils sont plus de 25 collaborateurs pour accompagner entreprises et particuliers à réduire leur empreinte carbone !  \n\nEmmanuel est aussi le Fondateur et CEO de Nuage Café, un lieu convivial à mi-chemin entre le coffee shop et l’espace de coworking. ☕\n\n? Vous pourrez lui poser toutes vos questions !\n\n	Comment a-t-il rencontré ses 2 associés ?\n	Comment entreprendre sur le vaste sujet de l’impact environnemental ?\n	Comment se passe la gestion d’une entreprise quand on démarre à 3 fondateurs ?\n	Que recommencerait-il s’il pouvait revenir en arrière ?\n\n\nAlors, vous souhaitez rencontrer Emmanuel et vous inspirer de son expérience ?\nRendez-vous le 8 mars à 18h30.\n\n \n\n\n \n\nInspire, le rendez-vous des étudiants et des diplômés qui aspirent à l'entrepreneuriat, revient cette année !\nPropulsé par l’Incubateur Centrale-Audencia-Ensa, structure d'accompagnement unique grâce à l’hybridation de trois écoles, le Programme Inspire est un cycle de rencontres avec des entrepreneurs qui partagent leurs expériences sans langue de bois.\n\n\n\n 
BEGIN:VALARM
ACTION:DISPLAY
TRIGGER:-PT60M
DESCRIPTION:Entrepreneurs - conf. INSPIRE - Emmanuel Watrinet (Centralien), co-Fondateur de Carbo
END:VALARM
END:VEVENT
END:VCALENDAR