BEGIN:VCALENDAR
VERSION:2.0
X-WR-TIMEZONE:Europe/Paris
PRODID:-//Audencia//NONSGML v1.0//EN
CALSCALE:GREGORIAN
BEGIN:VEVENT
SUMMARY:CCI France Chine Event: Christmas Cocktail in Beijing
DTSTART:20221215T113000
DTEND:20221215T140000
UID:1446
DTSTAMP:20260425T210116
LOCATION:CCI FRANCE CHINE Beijing Office, Suites 201-222, 2F, Building 81, No. 4 Gongti North Road, Chaoyang District, Beijing, China
DESCRIPTION:\n \n\nJoin us to celebrate the holiday season with the Sino-French business community, in the presence of CCI FRANCE CHINE's Board Members.\n\n \n\nRaise a glass to 2023 with fine wine while listening to our Christmas songs and take your chances to win gifts in our lucky draw.\n\n \n\nOur partners will prepare a wonderful “Buffet de Noël” with many delicious French specialties. \n\n \n\nAgenda \n\nDate: Thursday, 15 December 2022\n\nTime: 6:30 PM - 9:00 PM (Heure de Chine)\n\nFee: Free for and strictly restricted to members \n\nLocation: CCI FRANCE CHINE Beijing Office, Suites 201-222, 2F, Building 81, No. 4 Gongti North Road, Chaoyang District, Beijing / 北京市朝阳区工体北路4号院81号楼二层201-222室 
BEGIN:VALARM
ACTION:DISPLAY
TRIGGER:-PT60M
DESCRIPTION:CCI France Chine Event: Christmas Cocktail in Beijing
END:VALARM
END:VEVENT
END:VCALENDAR