BEGIN:VCALENDAR
VERSION:2.0
X-WR-TIMEZONE:Europe/Paris
PRODID:-//Audencia//NONSGML v1.0//EN
CALSCALE:GREGORIAN
BEGIN:VEVENT
SUMMARY:CCI France Chine Event: Christmas Family Cocktail in Shanghai
DTSTART:20221203T100000
DTEND:20221203T140000
UID:1445
DTSTAMP:20260425T210144
LOCATION:Sofitel Shanghai Hongqiao, No. 666 Taihong Lu, District de Minhang, Shanghai, China
DESCRIPTION:\n\n \n\nJoin us to celebrate the holiday season with all the Sino-French business community, in the presence of Mr. Christophe Lauras, President of CCI FRANCE CHINE and CCI FRANCE CHINE's Board Members.\n\nSofitel Hongqiao will prepare a wonderful “Buffet de Noël” with foie gras, smoked salmon, French Cheese, terrines and other famous French specialities.\n \n\nDate: Saturday, December 3rd, 2022\n\nTime: 5:00 pm - 9:00 pm (Heure de Chine)\n\nVenue: At Sofitel Hongqiao - No. 666 Taihong Lu, District de Minhang, Shanghai, China\n\nFees: \n\n\n	\n	Adult: 300 RMB \n	\n	\n	Children under 12yo: 200 RMB\n	\n	\n	Children under 3yo: Free\n	\n\n\nTo register, scan the QR code or click here\n\n
BEGIN:VALARM
ACTION:DISPLAY
TRIGGER:-PT60M
DESCRIPTION:CCI France Chine Event: Christmas Family Cocktail in Shanghai
END:VALARM
END:VEVENT
END:VCALENDAR