BEGIN:VCALENDAR
VERSION:2.0
X-WR-TIMEZONE:Europe/Paris
PRODID:-//Audencia//NONSGML v1.0//EN
CALSCALE:GREGORIAN
BEGIN:VEVENT
SUMMARY:CCI France Chine Event: French Job Fair 中法招聘论坛（北上深）
DTSTART:20221217T060000
DTEND:20221217T100000
UID:1444
DTSTAMP:20260425T210043
LOCATION:Shanghai, Beijing and Shenzhen
DESCRIPTION:The French Job Fair connects talented candidates with attractive French Multi-National Companies and SMEs based in China\n\n招聘论坛旨在将优秀求职者与有吸引力的在华法国跨国公司和中小企业联系起来\n\n \n\nDate: 17 December 2022 / 日期：2022年12月17日\nTime: 1:00 PM  - 5:00 PM / 时间：下午1点 - 下午5点\nFees: Free / 费用：免费\n\nVenue: 地址：\n\nShanghai : CCI FRANCE CHINE SHANGHAI OFFICE, 2/F Mayfair Tower, 83 Fu min Road, Shanghai\n上海市静安区富民路83号，巨富大厦2楼\n\n \n\nBeijing: CCI FRANCE CHINE BEIJING OFFICE, Suites 201-222, 2F, Building 81, No. 4 Gongti North Road, Chaoyang District, Beijing, 100027, P.R.C \n北京市朝阳区工体北路4号院81号楼二层201-222室\n\n \n\nShenzhen: To Be Confirmed 待宣布\n \n\nTo register, scan the QR code or click here\n\n
BEGIN:VALARM
ACTION:DISPLAY
TRIGGER:-PT60M
DESCRIPTION:CCI France Chine Event: French Job Fair 中法招聘论坛（北上深）
END:VALARM
END:VEVENT
END:VCALENDAR