BEGIN:VCALENDAR
VERSION:2.0
X-WR-TIMEZONE:Europe/Paris
PRODID:-//Audencia//NONSGML v1.0//EN
CALSCALE:GREGORIAN
BEGIN:VEVENT
SUMMARY:CCI France Chine Event: [Club Agroalimentaire] Baromètre du marché des vins et spiritueux en Chine
DTSTART:20221123T090000
DTEND:20221123T103000
UID:1442
DTSTAMP:20260425T210611
LOCATION:Shanghai et Beijing en présentiel & en ligne via webinar
DESCRIPTION:Agenda\n\n• Présentation du baromètre du marché des vins et spiritueux en Chine\n• Table ronde avec trois experts du marché chinois \n• Questions - réponses\n\n \n\nIntervenants\n\nYuwan Hu\n\nAssociate Director & Vice-President,\n\nDaxue Consulting\n\n \n\nRichard Krystkowiak\n\nDirecteur Chine\n\nSopexa\n\n \n\nXavier Pignel-Dupont\n\nCEO\n\nCastel Chine\n\n \n\nAdrien Niclot\n\nCEO\n\nSoir d'ivresse Chine\n\n \n\nDidier Delzescaux\n\nDirecteur\n\nCNIV (Comité National des Interprofessions des Vins à appellation d'origine et à indication géographique)\n\n \n\nDate : Mercredi 23 Novembre\nHoraire : 16h00 - 17h30 Beijing\nFormat : Présentiel + Webinar\nLieu de l'événement : Dans les bureaux de la CCI FRANCE CHINE à Shanghai et à Beijing\nFrais : Audencia Alumni & Membre CCI FRANCE CHINE: Free\nLangue : Francais\nInscription : Scannez the QR code ou cliquez ici\n \n\n
BEGIN:VALARM
ACTION:DISPLAY
TRIGGER:-PT60M
DESCRIPTION:CCI France Chine Event: [Club Agroalimentaire] Baromètre du marché des vins et spiritueux en Chine
END:VALARM
END:VEVENT
END:VCALENDAR