BEGIN:VCALENDAR
VERSION:2.0
X-WR-TIMEZONE:Europe/Paris
PRODID:-//Audencia//NONSGML v1.0//EN
CALSCALE:GREGORIAN
BEGIN:VEVENT
SUMMARY:CANCELLED - Chinese New Year Dinner in Nantes
DTSTART:20230120T200000
DTEND:20230120T223000
UID:1441
DTSTAMP:20260425T210150
LOCATION:Les pâtes express, 57 Quai de la Fosse, Nantes, France
DESCRIPTION:本次活动取消，敬请留意\n\n\n大寒，除夕前夜 ?\nAudencia Alumni诚邀各位校友参与春节聚餐 ?\n名额有限，先到先得 ?\n如有疑问请致信：tcliu@audencia.com\n\n
BEGIN:VALARM
ACTION:DISPLAY
TRIGGER:-PT60M
DESCRIPTION:CANCELLED - Chinese New Year Dinner in Nantes
END:VALARM
END:VEVENT
END:VCALENDAR