BEGIN:VCALENDAR
VERSION:2.0
X-WR-TIMEZONE:Europe/Paris
PRODID:-//Audencia//NONSGML v1.0//EN
CALSCALE:GREGORIAN
BEGIN:VEVENT
SUMMARY:Ski Trip in Beijing
DTSTART:20230219T010000
DTEND:20230219T100000
UID:1440
DTSTAMP:20260425T210149
LOCATION:Beijing, China
DESCRIPTION:
BEGIN:VALARM
ACTION:DISPLAY
TRIGGER:-PT60M
DESCRIPTION:Ski Trip in Beijing
END:VALARM
END:VEVENT
END:VCALENDAR