BEGIN:VCALENDAR
VERSION:2.0
X-WR-TIMEZONE:Europe/Paris
PRODID:-//Audencia//NONSGML v1.0//EN
CALSCALE:GREGORIAN
BEGIN:VEVENT
SUMMARY:Webinar: 12 tendances RH dont les recruteurs vont rafoler
DTSTART:20171214T133000
DTEND:20171214T141500
UID:144
DTSTAMP:20260425T205910
LOCATION:En ligne
DESCRIPTION:Les RH sont bouleversées par la vague digitale.\n\nTous les périmètres sont touchés sans exception : le recrutement, la formation, le SIRH, la paie, la GPEC...\n\nMais, parmi les dizaines de nouveautés arrivant chaque mois, quels sont les vraies tendances sur lesquelles miser et les phénomènes de mode qui disparaîtront rapidement ?\n\n \n\nCe Webinar - webconférence gratuite et ouverte à tous - présentera les 12 tendances majeures qui seront incontournables en 2018...et après. \n\nAu programme : l'Intelligence Artificielle, la Gamification, les Chatbots, la Dématérialisation...\n\nConférence animée par Laurent Pilliet, journaliste spécialisé sur les sujets RH et éditeur du site ExclusiveRH.com, site d'information pour les professionnels des RH.\n \n\n \n \n\nPour vous inscrire, suivez ce lien\nSi vous n'êtes pas disponible pour le live,\nle replay sera en ligne dès le 15 décembre !
BEGIN:VALARM
ACTION:DISPLAY
TRIGGER:-PT60M
DESCRIPTION:Webinar: 12 tendances RH dont les recruteurs vont rafoler
END:VALARM
END:VEVENT
END:VCALENDAR