BEGIN:VCALENDAR
VERSION:2.0
X-WR-TIMEZONE:Europe/Paris
PRODID:-//Audencia//NONSGML v1.0//EN
CALSCALE:GREGORIAN
BEGIN:VEVENT
SUMMARY:Christmas Dinner in Shanghai
DTSTART:20221217T100000
DTEND:20221217T150000
UID:1439
DTSTAMP:20260425T210124
LOCATION:AI Plaza, No. 638 Yunjin Road, Xuhui, Shanghai, China
DESCRIPTION:
BEGIN:VALARM
ACTION:DISPLAY
TRIGGER:-PT60M
DESCRIPTION:Christmas Dinner in Shanghai
END:VALARM
END:VEVENT
END:VCALENDAR