BEGIN:VCALENDAR
VERSION:2.0
X-WR-TIMEZONE:Europe/Paris
PRODID:-//Audencia//NONSGML v1.0//EN
CALSCALE:GREGORIAN
BEGIN:VEVENT
SUMMARY:Club Activités Culturelles - Galette des Rois
DTSTART:20230110T190000
DTEND:20230110T210000
UID:1438
DTSTAMP:20260425T210439
LOCATION:Audencia Campus Paris 95 rue Falguière 75015 Paris
DESCRIPTION:Nous avons le plaisir de vous inviter pour tirer les rois. Les galettes seront prêtes, avec frangipane, fèves, et couronnes.\n\nVenez partager ce moment traditionnel et surtout de la joie et de la bonne humeur le mardi 10 janvier à 19h sur le campus Paris.\n\nAu plaisir de vous y retrouver.\n\n**************\n\nWe are pleased to invite you to crown some kings. The pancakes will be ready, with frangipane, beans, and crowns.\n\nCome and share this traditional moment and especially the joy and good humour on Tuesday, January 10 at 7pm on the Paris campus.\n\nWe look forward to seeing you there.\n \n\n\n\nQuestion? : nushad.merchant@audencia.com
BEGIN:VALARM
ACTION:DISPLAY
TRIGGER:-PT60M
DESCRIPTION:Club Activités Culturelles - Galette des Rois
END:VALARM
END:VEVENT
END:VCALENDAR