BEGIN:VCALENDAR
VERSION:2.0
X-WR-TIMEZONE:Europe/Paris
PRODID:-//Audencia//NONSGML v1.0//EN
CALSCALE:GREGORIAN
BEGIN:VEVENT
SUMMARY:Anniversaires de programmes : MS MASC & MCI
DTSTART:20230308T183000
DTEND:20230308T230000
UID:1436
DTSTAMP:20260425T210205
LOCATION:Audencia 8 route de la Jonelière 44300 Nantes
DESCRIPTION:Evénement réservé aux étudiants et diplômés des MS® MASC & MCI\nConnctez-vous à votre compte Together pour vous inscrire\nUn souci d'inscription ? Ecrivez à nushad.merchant@audencia.com\n\nChers alumni des MS® MASC & MCI,\n\nCela fait de nombreux mois que je vous entends nous demander quand nous pourrons nous réunir de nouveau et festoyer. Voici venu le moment de nous retrouver pour fêter les 15 ans du MS® MASC et les 20 ans du MS® MCI !\n\nPour célébrer ensemble les 15 et 20 années de ces magnifiques programmes et de ces très belles communautés d’alumni, nous vous invitons le 8 mars prochain sur Atlantic Campus à Nantes, à partir de 18h30. Ceci sera une excellente occasion de se (re)voir et surtout de faire une belle passerelle entre les différentes générations des programmes.\n \nMessage d'Olga Batrak, responsable du MS® MASC\n\nMessage de Beatrice du Mesnil, responsable du MS® MCI\n\nAu programme : \n\n\n	la possibilité pour celles et ceux qui le peuvent de visiter le campus qui a beaucoup évolué avec le temps,\n	une conférence sur "??????? à ?’????????????? : ??????? ?é????? ?? ?????? ?? ?é??????????? ???? ??? ?????????????? ?????????" avec Yves-André Lagadic, qui a démarré sa carrière au Ministère des Armées, a été en charge des opérations sensibles surtout en mer, avant de prendre la responsabilité de la sécurité dans un grand groupe international et Claire Venard, Conseiller International Team France Export à la CCI Pays de la Loire qui a également une expérience à l’international et qui accompagne des dirigeants et leurs entreprises,\n	un cocktail dînatoire où bonne humeur rimera à coup sûr avec chaleur. Au menu :partage, échanges, discussions et rigolades pour un moment de plaisir entre les programmes.\n\n\n Au plaisir de vous y retrouver nombreux !\n\n \nPlaces limitées, inscriptions obligatoires\n\n\n\n\nQuestion ? : nushad.merchant@audencia.com\n\n 
BEGIN:VALARM
ACTION:DISPLAY
TRIGGER:-PT60M
DESCRIPTION:Anniversaires de programmes : MS MASC & MCI
END:VALARM
END:VEVENT
END:VCALENDAR