BEGIN:VCALENDAR
VERSION:2.0
X-WR-TIMEZONE:Europe/Paris
PRODID:-//Audencia//NONSGML v1.0//EN
CALSCALE:GREGORIAN
BEGIN:VEVENT
SUMMARY:Webinar Expert : Achat & Supply Chain
DTSTART:20230201T180000
DTEND:20230201T190000
UID:1435
DTSTAMP:20260425T210143
LOCATION:
DESCRIPTION:Webinaire expert sur la gestion des chaines d'approvisionnement avec la prise en compte de la composante énergie, le mercredi 1er février 2023 18h-19h.\n\nCe webinaire expert est destiné aux étudiants / futurs étudiants et aux diplômés d'Audencia. L'objectif est d'échanger avec des professionnels des achats et de la supply chain sur leurs parcours, leurs conseils pour débuter/poursuivre une carrière dans les achats et la supply chain. Nous échangerons également sur les thématiques d'actualités, notamment l'influence de la composante énergie sur ces métiers. \n\nNous avons le plaisir d'accueillir pour ce webinaire :  \n\n\n	\n	Olga Batrak, Enseignante, responsable du Mastère Spécialisé "Management Global des Achats et de la Supply Chain" à Audencia\n	\n	\n	Sébastien Santangeli Group CPO Maisons du Monde\n	\n	\n	Thaha Ameen, Project Buyer chez Alstom Canada\n	\n	\n	Maëla Floch, consultante carrière, Career Center Audencia\n	\n\n\n\nVenez écouter et poser toutes vos questions lors de ce webinaire experts ! \n \n \n\nLien Teams pour ce webinar ??\n\nCliquez ici pour rejoindre la réunion\n\nID de la réunion : 310 630 790 105 \nCode secret : 2k2PUY\n\n\n\n\n\nQuestion ? : nushad.merchant@audencia.com\n 
BEGIN:VALARM
ACTION:DISPLAY
TRIGGER:-PT60M
DESCRIPTION:Webinar Expert : Achat & Supply Chain
END:VALARM
END:VEVENT
END:VCALENDAR