BEGIN:VCALENDAR
VERSION:2.0
X-WR-TIMEZONE:Europe/Paris
PRODID:-//Audencia//NONSGML v1.0//EN
CALSCALE:GREGORIAN
BEGIN:VEVENT
SUMMARY:Afterwork Galette des Rois - Chapter Nantes
DTSTART:20230130T184500
DTEND:20230130T223000
UID:1434
DTSTAMP:20260425T210209
LOCATION:Le Flesselles 3, allée Flesselles 44000 Nantes
DESCRIPTION:\n? Célébrons la nouvelle année ensemble ! ?\n\n\n\nRéservez dès à présent votre soirée du lundi 30 janvier pour partager un moment de retrouvailles et d'échanges autour de la traditionnelle Galette des Rois au Café Flesselles à partir de 18h45 à Nantes. ?\n\nJacques Doll*, intervenant à Audencia, coach et consultant en management, vous proposera de débuter cette nouvelle année positivement\nL'atelier commencera à 19h pour une durée de 45 minutes.\n\n? Diplômés de Nantes et des alentours : vous êtes les bienvenus !\n\n\nContact pour toute question ou information : audenciaalumni@audencia.com\n\n \n\n* Jacques Doll est diplômé en management et gestion, ingénieur CNAM en organisation des entreprises. Après un parcours de manager dans le monde de la formation et de la prestation technologique (gestion documentaire), il exerce depuis 24 ans auprès d'entreprises et d'organismes très divers sur des thématiques de communication, de performance et de management. Coach associé chez Baobab Factory, il est notamment intervenant à Audencia. Son credo : " L’expérience vécue est fondatrice et irremplaçable".​\n
BEGIN:VALARM
ACTION:DISPLAY
TRIGGER:-PT60M
DESCRIPTION:Afterwork Galette des Rois - Chapter Nantes
END:VALARM
END:VEVENT
END:VCALENDAR