BEGIN:VCALENDAR
VERSION:2.0
X-WR-TIMEZONE:Europe/Paris
PRODID:-//Audencia//NONSGML v1.0//EN
CALSCALE:GREGORIAN
BEGIN:VEVENT
SUMMARY:Afterwork in Dakar, Senegal
DTSTART:20221129T183000
DTEND:20221129T193000
UID:1433
DTSTAMP:20260425T210144
LOCATION:Campus point E Groupe Supdeco Dakar 7, Avenue Faidherbe BP 21345 Dakar
DESCRIPTION:On the occasion of Catherine Chassanite's visit to Dakar, come and join her for an informal afterwork gathering and meet the new intake of the Executive MBA programme there:\n\nDate: Tuesday 29 November\nTime: 18:30 to 19:30\nVenue: Campus point E, Groupe Supdeco Dakar, 7 Avenue Faidherbe, Dakar\n\n \n
BEGIN:VALARM
ACTION:DISPLAY
TRIGGER:-PT60M
DESCRIPTION:Afterwork in Dakar, Senegal
END:VALARM
END:VEVENT
END:VCALENDAR