BEGIN:VCALENDAR
VERSION:2.0
X-WR-TIMEZONE:Europe/Paris
PRODID:-//Audencia//NONSGML v1.0//EN
CALSCALE:GREGORIAN
BEGIN:VEVENT
SUMMARY:Afterwork in London, UK
DTSTART:20221208T190000
DTEND:20221208T203000
UID:1432
DTSTAMP:20260425T210121
LOCATION:The Crusting Pipe winebar Jubilee Market Hall,  30 Tavistock Ct,  London WC2E 8RD
DESCRIPTION:The Audencia team will be in London and would be delighted to meet up with alumni there!\n\nCome and join us on Thursday 8 December at 7pm for a pre-Christmas gathering at:\n \nThe Crusting Pipe winebar\nJubilee Market Hall, 30 Tavistock Ct, London WC2E 8RD\n\nLook out for the "Audencia Alumni" banner to ensure you are on the right table!\n\n \n
BEGIN:VALARM
ACTION:DISPLAY
TRIGGER:-PT60M
DESCRIPTION:Afterwork in London, UK
END:VALARM
END:VEVENT
END:VCALENDAR