BEGIN:VCALENDAR
VERSION:2.0
X-WR-TIMEZONE:Europe/Paris
PRODID:-//Audencia//NONSGML v1.0//EN
CALSCALE:GREGORIAN
BEGIN:VEVENT
SUMMARY:Chapter Mumbai : Breakfast Meet
DTSTART:20221117T040000
DTEND:20221117T050000
UID:1428
DTSTAMP:20260425T210123
LOCATION:Bandra Kurla Complex, Bandra East, Mumbai
DESCRIPTION:\nChapter Mumbai is meeting up for a breakfast on Thursday 17 November at 8.30am (India time) in BKC, Mumbai.\n\n\n\nQuestion?: nushad.merchant@audencia.com
BEGIN:VALARM
ACTION:DISPLAY
TRIGGER:-PT60M
DESCRIPTION:Chapter Mumbai : Breakfast Meet
END:VALARM
END:VEVENT
END:VCALENDAR