BEGIN:VCALENDAR
VERSION:2.0
X-WR-TIMEZONE:Europe/Paris
PRODID:-//Audencia//NONSGML v1.0//EN
CALSCALE:GREGORIAN
BEGIN:VEVENT
SUMMARY:Innovation Sociale et Territoires - Soirée inaugurale du Parcours Sirius
DTSTART:20221128T183000
DTEND:20221128T200000
UID:1426
DTSTAMP:20260425T210448
LOCATION:Audencia City Campus 4 rue Bisson 44105 Nantes
DESCRIPTION:\n \n\n	\n		\n			\n			\n				\n					\n						La première promotion du Parcours Sirius venant de faire sa rentrée,\n						Audencia vous invite à célébrer le lancement de ce dispositif unique en France destiné aux bacheliers professionnels\n						\n						 le lundi 28 novembre 2022 à 18h30\n					\n				\n			\n			\n		\n	\n\n \n\n\n\n	\n		\n			\n			\n				\n					\n						\n						En présence de : \n						\n						Christelle Morançais\n						Présidente de la Région Pays de la Loire\n\n						 \n						Au programme de cette soirée :\n						 \n						> Des prises de parole et des témoignages,\n						 \n						> Une table ronde sur l’exemple du Parcours Sirius comme innovation sociale dans les territoires avec :\n\n						\n							Cécile Tassou-Cadeau, responsable pédagogique Parcours Sirius, Audencia\n							Arnaud Le Bohec, professeur au lycée Les Bourdonnières\n							Romuald Prader, étudiant Audencia (Bachelor in Management, Grande Ecole) titulaire d’un baccalauréat professionnel\n							Elise Voyer, directrice des ressources humaines de Sigma \n						\n						Animée par Yann Bouchery, journaliste réalisateur, collaborateur France Info et alumni Audencia SciencesCom  (promotion 1994),\n						\n						\n						> Un cocktail apéritif vous sera proposé afin de poursuivre les échanges.\n					\n				\n			\n			\n		\n	\n\n \n\n\n\n	\n		\n			\n			\n				\n					\n						Vous pouvez nous confirmer votre présence en vous inscrivant via le lien ci-dessous\n					\n				\n			\n			\n		\n	\n\n \n\n\n	\n		\n			\n			\n				\n					\n						\n						\n							\n								\n									\n									\n										\n											\n												\n												INSCRIPTION\n												\n											\n										\n									\n									\n								\n							\n						\n						\n					\n				\n			\n			\n		\n	\n\n \n\n\n\n	\n		\n			\n			\n				\n					\n						\n						\n							\n								\n									\n									\n										\n											\n												Le Parcours Sirius est une année de renforcement proposée aux lycéens de la Région des Pays de la Loire et de Bretagne après l’obtention d’un bac professionnel.\n											\n										\n									\n									\n								\n							\n						\n						\n					\n					\n						\n						\n							\n								\n									\n									\n										\n											\n												Parmi les bacheliers professionnels, nombreux sont ceux qui souhaitent poursuivre des études dans l'enseignement supérieur mais ne sont pas certains d'y arriver.\n												 \n												Cette année gratuite est l’opportunité de consolider leurs compétences et de reprendre confiance en eux.\n												\n												Et après ? A l’issue du Parcours Sirius, les étudiants auront la possibilité d’intégrer via un concours dédié le Bachelor in Management d’Audencia (diplôme visé Bac+3 et conférent le Grade de Licence). \n											\n										\n									\n									\n									\n									\n										\n											\n												\n												\n													\n														\n															\n														\n													\n												\n												\n											\n										\n									\n									\n								\n							\n						\n						\n					\n				\n			\n			\n		\n	\n\n \n\n\n	\n		\n			Christophe Germain\n			Directeur Général - Audencia\n		\n	\n\n \n\n\n\n	\n		\n			\n			\n				\n					\n						AVEC LE SOUTIEN DES PARTENAIRES FONDATEURS ►\n					\n				\n			\n			\n		\n	\n\n\n\n	\n		\n			\n			\n				\n					\n						\n						\n							\n								\n									\n								\n							\n						\n						\n					\n				\n			\n			\n		\n	\n
BEGIN:VALARM
ACTION:DISPLAY
TRIGGER:-PT60M
DESCRIPTION:Innovation Sociale et Territoires - Soirée inaugurale du Parcours Sirius
END:VALARM
END:VEVENT
END:VCALENDAR