BEGIN:VCALENDAR
VERSION:2.0
X-WR-TIMEZONE:Europe/Paris
PRODID:-//Audencia//NONSGML v1.0//EN
CALSCALE:GREGORIAN
BEGIN:VEVENT
SUMMARY:Conférence-débat Isegoria - Aurélien Guiheneuf : "Dépendance aux écrans : les clés pour comprendre et trouver des solutions"
DTSTART:20221129T183000
DTEND:20221129T203000
UID:1425
DTSTAMP:20260425T210447
LOCATION:Mediacampus 41 Boulevard de la Prairie au Duc 44200 Nantes
DESCRIPTION:\n	\n		\n			\n			\n				\n					\n						\n					\n				\n			\n			\n		\n	\n\n \n\n\n	\n		\n			\n			"Dépendance aux écrans : les clés pour comprendre et trouver des solutions"\n			 \n			Aurélien Guiheneuf est Hypnothérapeute et expert de Mediapilote Fun'dation.\n			Après 11 ans d'activité dans la communication et le digital, Aurélien Guiheneuf a laissé les problématiques marketing au profit des problématiques humaines... en se spécialisant dans la gestion des addictions numériques (écrans, réseaux sociaux, jeux en ligne, etc.).\n			\n			La conférence portera sur la dépendance aux écrans : les clés pour comprendre et trouver des solutions.\n			\n			A travers son parcours spécialisé dans le digital et les réseaux sociaux, Aurélien Guiheneuf a animé les réseaux sociaux de nombreux médias, marques et artistes. Il connaît donc "l'envers du décor" de l'animation de communautés et des opérations virales. Aujourd'hui, le sujet de la dépendance aux outils numériques lui tient particulièrement à cœur.\n			 \n		\n	\n\n \n\n\n	\n		\n			\n			\n				\n					\n						\n						\n							\n								\n									\n									S'INSCRIRE\n									\n								\n							\n						\n\n						 \n						\n					\n				\n			\n			\n		\n	\n\n \n\n\n	\n		\n			Pour en savoir plus sur Mediapilote Fun'dation\n		\n	\n
BEGIN:VALARM
ACTION:DISPLAY
TRIGGER:-PT60M
DESCRIPTION:Conférence-débat Isegoria - Aurélien Guiheneuf : "Dépendance aux écrans : les clés pour comprendre et trouver des solutions"
END:VALARM
END:VEVENT
END:VCALENDAR