BEGIN:VCALENDAR
VERSION:2.0
X-WR-TIMEZONE:Europe/Paris
PRODID:-//Audencia//NONSGML v1.0//EN
CALSCALE:GREGORIAN
BEGIN:VEVENT
SUMMARY:Conférence-débat Isegoria - Florence Pagneux
DTSTART:20221117T183000
DTEND:20221117T203000
UID:1424
DTSTAMP:20260425T210448
LOCATION:Mediacampus 41 Boulevard de la Prairie au Duc 44200 Nantes
DESCRIPTION:\n \n\n	\n		\n			Comment #MeToo a libéré la parole ? Une jeunesse qui casse les codes.\n			\n			Cette conférence portera notamment sur son dernier livre : Ce que nos filles ont à nous dire : La génération post #MeToo. \n			\n			Lors de cet échange avec une journaliste engagée dans le féminisme, plusieurs thématiques seront abordées : le genre, les violences sexuelles et sexistes, l’autocensure professionnelle… et bien d’autres encore.\n			\n			Florence Pagneux est journaliste pour l’AFP, le quotidien La Croix et les titres jeunesse du groupe Bayard. Après des études à Sciences Po Aix et l’obtention d’un master de journalisme au Celsa, elle devient pigiste pour plusieurs journaux et rejoint l’équipe Audencia en tant qu’intervenante en 2012.\n			\n			Venez participer à cet échange, plus que d’actualité, pour comprendre les enjeux de la jeunesse d’aujourd’hui.\n		\n	\n\n \n\n\n	\n		\n			\n			\n				\n					\n						\n						\n							\n								\n									\n									S'INSCRIRE\n									\n								\n							\n						\n\n						 \n						\n					\n				\n			\n			\n		\n	\n
BEGIN:VALARM
ACTION:DISPLAY
TRIGGER:-PT60M
DESCRIPTION:Conférence-débat Isegoria - Florence Pagneux
END:VALARM
END:VEVENT
END:VCALENDAR