BEGIN:VCALENDAR
VERSION:2.0
X-WR-TIMEZONE:Europe/Paris
PRODID:-//Audencia//NONSGML v1.0//EN
CALSCALE:GREGORIAN
BEGIN:VEVENT
SUMMARY:Conférence-débat Isegoria : Sarah El Haïry - De la Jeunesse et de l’Éducation : parole d’une engagée.
DTSTART:20221114T183000
DTEND:20221114T203000
UID:1423
DTSTAMP:20260425T210432
LOCATION:Amphi Edit de Nantes  ATLANTIC CAMPUS   8 Rte de la Jonelière 44300 Nantes France
DESCRIPTION:\n	\n		\n			\n			\n				\n					\n						\n					\n				\n			\n			\n		\n	\n\n \n\n\n	\n		\n			De la Jeunesse et de l’Éducation : parole d’une engagée.\n			\n			Sarah El Haïry, Secrétaire d'État chargée de la Jeunesse et du Service National Universel auprès du Ministre des Armées Sébastien Lecornu et du Ministre de l'Éducation nationale Pap Ndiaye, est une femme politique engagée.\n			Entre 2015 et 2017, elle est membre du conseil au sein de Nantes Saint-Nazaire Développement. Élue Députée de la 5ème circonscription de Loire-Atlantique sur la liste de la majorité présidentielle en 2017, elle est réélue en 2022.\n			Porte-parole du Mouvement Démocrate depuis février 2018, elle intègre en juillet 2020 le gouvernement en tant que Secrétaire d'État chargée de la Jeunesse et de l'Engagement auprès du ministre de l'Éducation nationale, de la Jeunesse et des Sports Jean-Michel Blanquer. Elle occupe ce poste jusqu’à mai 2022, puis y est reconduite après la réélection du Président Emmanuel Macron.\n			 \n			C’est donc une femme politique engagée qui nous partagera son expérience. L’occasion d’évoquer la mise en œuvre du Service National Universel, mais aussi de parler de l’engagement des jeunes dans la société.\n		\n	\n\n \n\n\n	\n		\n			\n			\n				\n					\n						\n						\n							\n								\n									\n									S'INCRIRE\n									\n								\n							\n						\n\n						 \n						\n					\n				\n			\n			\n		\n	\n
BEGIN:VALARM
ACTION:DISPLAY
TRIGGER:-PT60M
DESCRIPTION:Conférence-débat Isegoria : Sarah El Haïry - De la Jeunesse et de l’Éducation : parole d’une engagée.
END:VALARM
END:VEVENT
END:VCALENDAR