BEGIN:VCALENDAR
VERSION:2.0
X-WR-TIMEZONE:Europe/Paris
PRODID:-//Audencia//NONSGML v1.0//EN
CALSCALE:GREGORIAN
BEGIN:VEVENT
SUMMARY:= Annulée = Rencontre : Club Marketing & Digital
DTSTART:20230124T193000
DTEND:20230124T220000
UID:1422
DTSTAMP:20260425T210124
LOCATION:TBC
DESCRIPTION:= ANNULE =\n \n\n
BEGIN:VALARM
ACTION:DISPLAY
TRIGGER:-PT60M
DESCRIPTION:= Annulée = Rencontre : Club Marketing & Digital
END:VALARM
END:VEVENT
END:VCALENDAR