BEGIN:VCALENDAR
VERSION:2.0
X-WR-TIMEZONE:Europe/Paris
PRODID:-//Audencia//NONSGML v1.0//EN
CALSCALE:GREGORIAN
BEGIN:VEVENT
SUMMARY:MS MOS : Afterwork
DTSTART:20221206T191500
DTEND:20221206T223000
UID:1421
DTSTAMP:20260425T211249
LOCATION:Audencia Campus Paris 95 rue Falguière 75015 Paris
DESCRIPTION:SAVE THE DATE\n\nLes étudiants de la promo MS MOS 2022-2023 invite les anciens du programme et ceux d'autres programmes de venir partager un moment convivial sur le campus parisien le mardi 6 décembre à partir de 19h15.\n \nInscriptions obligatoires !\n\n\n\n \n\nQuestion ? : nushad.merchant@audencia.com
BEGIN:VALARM
ACTION:DISPLAY
TRIGGER:-PT60M
DESCRIPTION:MS MOS : Afterwork
END:VALARM
END:VEVENT
END:VCALENDAR