BEGIN:VCALENDAR
VERSION:2.0
X-WR-TIMEZONE:Europe/Paris
PRODID:-//Audencia//NONSGML v1.0//EN
CALSCALE:GREGORIAN
BEGIN:VEVENT
SUMMARY:Entrepreneurs - conf. INSPIRE - Financement de son projet
DTSTART:20221207T183000
DTEND:20221207T193000
UID:1420
DTSTAMP:20260425T210449
LOCATION:
DESCRIPTION:\n?  Cycle de rencontres avec des entrepreneurs  ?\n\n[en distanciel]\n \n\nInspire #2\n\nLe financement de son projet quand on commence à entreprendre\n\nInscription : https://airtable.com/shrk5NmXATlEu4Wp3\n\n\nAprès une 1ère visio hyper enrichissante en compagnie de Maxime Guillaud, le format INSPIRE revient le 7 décembre ! Et cette fois, on parlera ARGENT. ?\n\nFonds propres, levées de fonds, emprunts bancaires, love money... L’argent, c’est le nerf de la guerre quand on monte son projet ! Alors, quelle(s) structure(s) solliciter et à quel moment ?\n\nDeux entrepreneurs vous partagent leurs expériences sur la thématique du financement. ?\nNous aurons le plaisir d’accueillir :\n\n\n	Susana Nunes, co-fondatrice de WE DO GOOD, une plateforme d’investissement pour financer des projets éthiques,\n	Julien Bardet, centralien nantais et fondateur de Nextories, une startup qui accompagne les particuliers et les entreprises dans leur déménagement.\n\n \n\nQuelles sont les différentes possibilités pour financer son projet ? A quel moment est-on légitime pour chercher des financements ? Faire une levée de fond est-il obligatoire ? Vous pourrez leur poser toutes vos questions !\nAlors, vous souhaitez rencontrer Susana et Julien et connaître leurs secrets pour trouver des financements ? Rendez-vous le 7 décembre à 18h30. \n\n \n\n\n\nInspire, le rendez-vous des étudiants et des diplômés qui aspirent à l'entrepreneuriat, revient cette année !\nPropulsé par l’Incubateur Centrale-Audencia-Ensa, structure d'accompagnement unique grâce à l’hybridation de trois écoles, le Programme Inspire est un cycle de rencontres avec des entrepreneurs qui partagent leurs expériences sans langue de bois.\n\n \n\n\n\n\n 
BEGIN:VALARM
ACTION:DISPLAY
TRIGGER:-PT60M
DESCRIPTION:Entrepreneurs - conf. INSPIRE - Financement de son projet
END:VALARM
END:VEVENT
END:VCALENDAR