BEGIN:VCALENDAR
VERSION:2.0
X-WR-TIMEZONE:Europe/Paris
PRODID:-//Audencia//NONSGML v1.0//EN
CALSCALE:GREGORIAN
BEGIN:VEVENT
SUMMARY:Club Culture & Management : Sobriété énergétique : le secteur culturel en est-il capable ?
DTSTART:20221116T190000
DTEND:20221116T210000
UID:1419
DTSTAMP:20260425T210438
LOCATION:Beaux Arts & Cie 9 Bd de la Madeleine 75001 Paris
DESCRIPTION:Nous vous attendons mercredi 16 novembre pour le 1er volet du cycle Écologie, avec un débat sur la sobriété énergétique dans le secteur culturel.\n\nEn amont, consultez cet article sur la course au gigantisme des festivals de musique, qui augmente leur impact écologique de manière exponentielle.\n\nLors de la conférence, nous nous intéresserons à la manière dont les acteurs culturels peuvent réduire leur empreinte écologique, et mesurer l'efficacité de leurs efforts d'éco-conception avec nos intervenants :\n\n\n	Étienne Bonnet-Candé, Administrateur général du Palais des Beaux-Arts de Lille\n	Marguerite Courtel, Cofondatrice de Les Augures, collectif qui accompagne les acteurs culturels dans leur transition écologique\n	Mai Nguyen, Responsable développement durable - RSO chez Universcience\n\n\nLe débat aura lieu au siège de Beaux Arts & Cie.\n \n\n\n\n\n\n\n\nInformations et réservation\n\n \n\nModalités d'accueil en présentiel :\n\n- les débats commencent à 19h, l'accueil se fait à partir de 18h30\n\n- si vous bénéficiez d'un tarif spécial (tarif chômeur ou tarif étudiant à 15€), vous devrez nous présenter un justificatif de moins de 3 mois\n \n\nAu plaisir de vous retrouver,\n\nL'équipe du Club Culture & Management\n \n\n\n\n\n 
BEGIN:VALARM
ACTION:DISPLAY
TRIGGER:-PT60M
DESCRIPTION:Club Culture & Management : Sobriété énergétique : le secteur culturel en est-il capable ?
END:VALARM
END:VEVENT
END:VCALENDAR