BEGIN:VCALENDAR
VERSION:2.0
X-WR-TIMEZONE:Europe/Paris
PRODID:-//Audencia//NONSGML v1.0//EN
CALSCALE:GREGORIAN
BEGIN:VEVENT
SUMMARY:Annual Autumn Beach Clean Up in Hong Kong
DTSTART:20221120T020000
DTEND:20221120T050000
UID:1416
DTSTAMP:20260425T210610
LOCATION:Hong Kong
DESCRIPTION:ANNUAL AUTUMN BEACH CLEAN UP WITH OTHER FRENCH GRANDES ECOLES\n\nSunday 20 November 2022 morning (9AM-12PM) location - TBD\n\nPlease register here, and also send me a message at emmacardon@icloud.com so I can include you in the Beach Clean Up group with all the other schools (this will enable us to count how many people will come and adjust the location to the most adapted beach).\n\nFeel free to bring along your +1 and kids!\n\nHope to see you there!\n\nEmma
BEGIN:VALARM
ACTION:DISPLAY
TRIGGER:-PT60M
DESCRIPTION:Annual Autumn Beach Clean Up in Hong Kong
END:VALARM
END:VEVENT
END:VCALENDAR