BEGIN:VCALENDAR
VERSION:2.0
X-WR-TIMEZONE:Europe/Paris
PRODID:-//Audencia//NONSGML v1.0//EN
CALSCALE:GREGORIAN
BEGIN:VEVENT
SUMMARY:Entrepreneurs - Découvrez les secrets d’un serial entrepreneur !
DTSTART:20221116T183000
DTEND:20221116T193000
UID:1415
DTSTAMP:20260425T210326
LOCATION:
DESCRIPTION:\n?  Cycle de rencontres avec des entrepreneurs  ?\n\n[en distanciel]\n\n \nInspire, le rendez-vous des étudiants et des diplômés qui aspirent à l'entrepreneuriat, revient cette année !\nPropulsé par l’Incubateur Centrale-Audencia-Ensa, structure d'accompagnement unique grâce à l’hybridation de trois écoles, le Programme Inspire est un cycle de rencontres avec des entrepreneurs qui partagent leurs expériences sans langue de bois.\n\n \nInspire #1\nRetour d'expérience de Maxime Guillaud, serial entrepreneur\nInscription : https://airtable.com/shr1GCR6ljWKHPsv1\n\n\nDans cette 1ère session animée par Lydia de l’Incubateur, c'est Maxime Guillaud, centralien, serial entrepreneur et CEO de INSKIP qui vous présente son parcours et vous partage sans filtre ses retours d'expériences sur l'entrepreneuriat.\nINSKIP, c’est 40 consultants-entrepreneurs, présents à Paris, Casablanca et Berlin, qui accompagnent les institutions et les porteurs de projet innovant dans leur stratégie et leur innovation.\n\nVous pourrez lui poser toutes vos questions :\n    - Pourquoi a-t-il décidé d’entreprendre ?\n    - Quel a été son cheminement pour enfin se lancer ?\n    - Comment s’est-il entouré pour avancer dans ses projets ?\n    - Quelles étaient ses peurs ?\n    - A-t-il connu des échecs ?\n    - Que recommencerait-il s’il pouvait revenir en arrière ?...\nAutant d’interrogations auxquelles Maxime apportera des réponses… et des conseils.\nAlors, venez rencontrer ce serial entrepreneur inspirant et découvrez ses secrets pour entreprendre !\n \n\n	Le Concept ?\n\nDepuis chez-vous, en visio, découvrez les parcours et les histoires des fondatrices et fondateurs de start-ups accompagnées par l’Incubateur ou d’anciens diplômés de vos écoles et laissez-vous inspirer par leur histoire.\n \n\n	Pour qui ?\n\nOuvert à tous les étudiants, diplômés, doctorants et enseignants-chercheurs des écoles Audencia, Centrale et Ensa qui s'intéressent à l'écosystème entrepreneurial.\n\n \n16 novembre - 18h30 - distanciel\n\nInscription : https://airtable.com/shr1GCR6ljWKHPsv1\nVous recevrez le lien par mail quelques jours avant la date.\n \n\n\n\n\n\n\n 
BEGIN:VALARM
ACTION:DISPLAY
TRIGGER:-PT60M
DESCRIPTION:Entrepreneurs - Découvrez les secrets d’un serial entrepreneur !
END:VALARM
END:VEVENT
END:VCALENDAR