BEGIN:VCALENDAR
VERSION:2.0
X-WR-TIMEZONE:Europe/Paris
PRODID:-//Audencia//NONSGML v1.0//EN
CALSCALE:GREGORIAN
BEGIN:VEVENT
SUMMARY:Eloquence du Bégaiement 2022 - Finale à Paris
DTSTART:20221123T190000
DTEND:20221123T220000
UID:1414
DTSTAMP:20260425T210605
LOCATION:Théâtre Bobino 14-20 rue de la Gaîté 75014 Paris
DESCRIPTION:#eloquence #handicap #handicapinvisible #inspiration #courage\n\nBriser les tabous du handicap et les codes de l'éloquence pour célébrer la différence !\n\nLa 4ème finale de l'Eloquence du Bégaiement aura lieu le mercredi 23 Novembre 2022 au Théâtre Bobino à Paris.\n \nLes inscriptions sont ici\n\nIl y a 3 ans je lançais ce projet pour montrer que les réelles barrières du handicap, sont celles que nous nous fixons et que la société nous fixe. Quel que soit le handicap, tout est possible.\n\nEn 2021, chose impensable, nous avons été complet et réuni 900 personnes.\nJe compte sur vous pour partager sur Linkedin, au sein de vos entreprises et de vos cercles.\n\nEnsemble, nous montrerons que la différence est notre richesse.\nEn plus, on aura bientôt une surprise, l'annonce d'un nouveau programme qui voit encore plus loin.\n\nMounah Bizri, GE 17\n\n\n \n
BEGIN:VALARM
ACTION:DISPLAY
TRIGGER:-PT60M
DESCRIPTION:Eloquence du Bégaiement 2022 - Finale à Paris
END:VALARM
END:VEVENT
END:VCALENDAR