BEGIN:VCALENDAR
VERSION:2.0
X-WR-TIMEZONE:Europe/Paris
PRODID:-//Audencia//NONSGML v1.0//EN
CALSCALE:GREGORIAN
BEGIN:VEVENT
SUMMARY:CCI France Chine Webinar: La Chine à la sortie du XXème Congrès - Quels impacts pour les groupes français ?
DTSTART:20221104T100000
DTEND:20221104T110000
UID:1412
DTSTAMP:20260425T210448
LOCATION:
DESCRIPTION:\n\n\nDate : Vendredi 4 novembre, 2022\n\nHoraire : 17h00 - 18h00 en Chine / 10h00 - 11h00 en France\n\nLangue : En français\n\nFormat de l'évènement : Webinaire\n\nTarifs : Gratuit\n\nInscription : Ouvert à tous - Cliquez ici pour vous inscrire.
BEGIN:VALARM
ACTION:DISPLAY
TRIGGER:-PT60M
DESCRIPTION:CCI France Chine Webinar: La Chine à la sortie du XXème Congrès - Quels impacts pour les groupes français ?
END:VALARM
END:VEVENT
END:VCALENDAR