BEGIN:VCALENDAR
VERSION:2.0
X-WR-TIMEZONE:Europe/Paris
PRODID:-//Audencia//NONSGML v1.0//EN
CALSCALE:GREGORIAN
BEGIN:VEVENT
SUMMARY:[CONFERENCE - Isegoria by Mediacampus] - Valentin Richardot
DTSTART:20221027T183000
DTEND:20221027T200000
UID:1411
DTSTAMP:20260425T210611
LOCATION:
DESCRIPTION:\n \nNous avons le plaisir de vous inviter à la prochaine conférence d'Isegoria by #Mediacampus . Pour l'occasion, nous recevons Valentin Richardot, fondateur et CEO de l'agence J'ai un pote dans la com, sur le thème : \n \nJ'ai un pote dans la com, le succès d'un nouveau média :\nquels défis pour demain ? \n \nLa conférence sera diffusée sur Twitch Audencia TV.\n\n\n\n 
BEGIN:VALARM
ACTION:DISPLAY
TRIGGER:-PT60M
DESCRIPTION:[CONFERENCE - Isegoria by Mediacampus] - Valentin Richardot
END:VALARM
END:VEVENT
END:VCALENDAR