BEGIN:VCALENDAR
VERSION:2.0
X-WR-TIMEZONE:Europe/Paris
PRODID:-//Audencia//NONSGML v1.0//EN
CALSCALE:GREGORIAN
BEGIN:VEVENT
SUMMARY:Office Visit & Lunch at Google Shibuya Stream in Tokyo
DTSTART:20221125T040000
DTEND:20221125T060000
UID:1410
DTSTAMP:20260425T210438
LOCATION:Google Japan (Shibuya), Japon, 〒150-0002 Tokyo, Shibuya City, Shibuya, 3 Chome−21−3 渋谷ストリーム
DESCRIPTION:Dear Audencia Alumni in Tokyo, \n\nIt's been a while since Audencia Around the World in March, about time to get together for another reunion!\n\nTo register for the visit and the lunch, please contact Samuel Jeanblanc at sjeanblanc@google.com\n\nQuestions? Drop me a message at tcliu@audencia.com, on Together, or through LinkedIn \n\nCici Ting LIU\nAlumni Relations Manager
BEGIN:VALARM
ACTION:DISPLAY
TRIGGER:-PT60M
DESCRIPTION:Office Visit & Lunch at Google Shibuya Stream in Tokyo
END:VALARM
END:VEVENT
END:VCALENDAR