BEGIN:VCALENDAR
VERSION:2.0
X-WR-TIMEZONE:Europe/Paris
PRODID:-//Audencia//NONSGML v1.0//EN
CALSCALE:GREGORIAN
BEGIN:VEVENT
SUMMARY:EU Lab Winterschool 2023 at Audencia, Nantes
DTSTART:20230116T090000
DTEND:20230120T170000
UID:1409
DTSTAMP:20260425T210026
LOCATION:Audencia 8 route de la Jonelière 44312 Nantes
DESCRIPTION:Be part of designing for a sustainable future and join the EULab in January 2023\nFeeding our cities : developing sustainable, resilient and inclusive food systems\nEULab is a unique programme, using a studio based learning model within a heutagogical learning framework.\nIt brings together students across 4 EU partner institutions to work collectively on the most pressing issues of our time.\n \nEULab is a virtual exchange programme that includes:\n• A week long immersive winter school hosted by Audencia Business School, Nantes, France,\n• A pre lab training\n•+ 3 weeks online collaboration following the winter school, culminating in an online public event where you will present your work.\n\nDATES: Monday 16 to Friday 20 January 2023\n\nOPPORTUNITY\nSuccessful applicants to the Nantes Futures Lab will:\n• take part in an exciting and innovative learning experience funded by Erasmus+\n• be guided in designing the sustainable future of Nantes with counterparts from Ireland, Spain, Finland and France\n• work along students from various disciplines\nThe lab will take place in English.\n \nCHALLENGE\nIf you are a thinker and a maker If you want to use your prospective mind If you are interested in the future of our planet If you remain unfazed under uncertain circumstances If you believe in collective intelligence If you like a challenge If you want to make a change THEN EULab is for you!\n \nWHY\nWe live in unprecedented times; the climate emergency and global pandemics are severely testing our taken for granted assumptions on how markets and society should work. But how will we make the changes that are needed? What will the ‘new normal’ look like for businesses and consumers for cities and their citizens?\n \nHow much does it cost?\nThe EULab is free (but we don’t cover travel and accommodation expenses to come and stay in Nantes in January 2023).\n \nPlease apply by filling out this survey \nDeadline for applications: Friday 28 October 2022\n\nAny questions, contact Céline Louche at Audencia\n \n
BEGIN:VALARM
ACTION:DISPLAY
TRIGGER:-PT60M
DESCRIPTION:EU Lab Winterschool 2023 at Audencia, Nantes
END:VALARM
END:VEVENT
END:VCALENDAR